BEGIN:VCALENDAR
VERSION:2.0
PRODID:-//pretix//pretix.eu//
BEGIN:VTIMEZONE
TZID:Europe/Berlin
BEGIN:STANDARD
DTSTART:20001029T040000
RRULE:FREQ=YEARLY;BYDAY=-1SU;BYMONTH=10
TZNAME:CET
TZOFFSETFROM:+0200
TZOFFSETTO:+0100
END:STANDARD
BEGIN:DAYLIGHT
DTSTART:20000326T030000
RRULE:FREQ=YEARLY;BYDAY=-1SU;BYMONTH=3
TZNAME:CEST
TZOFFSETFROM:+0100
TZOFFSETTO:+0200
END:DAYLIGHT
END:VTIMEZONE
BEGIN:VEVENT
UID:pretix-kulturboitel-kiep-0@pretix.eu
DTSTART;TZID=Europe/Berlin:20250301T190000
DTEND;TZID=Europe/Berlin:20250301T235900
DESCRIPTION:Tickets: https://pretix.eu/kulturboitel/kiep/\nEinlass: 01.03.2
 025 17:45\nVeranstalter: Kulturboitel - Haltern am See
DTSTAMP:20260420T203111Z
LOCATION:Aula des Schulzentrums\, Holtwicker Str. 5\, 45721 Haltern am See
SUMMARY:Kiep 2025 - Der Kabarett-Preis aus dem Münsterland
END:VEVENT
END:VCALENDAR
