BEGIN:VCALENDAR
VERSION:2.0
PRODID:-//pretix//pretix.eu//
BEGIN:VTIMEZONE
TZID:Europe/Berlin
BEGIN:STANDARD
DTSTART:20001029T040000
RRULE:FREQ=YEARLY;BYDAY=-1SU;BYMONTH=10
TZNAME:CET
TZOFFSETFROM:+0200
TZOFFSETTO:+0100
END:STANDARD
BEGIN:DAYLIGHT
DTSTART:20000326T030000
RRULE:FREQ=YEARLY;BYDAY=-1SU;BYMONTH=3
TZNAME:CEST
TZOFFSETFROM:+0100
TZOFFSETTO:+0200
END:DAYLIGHT
END:VTIMEZONE
BEGIN:VEVENT
UID:pretix-kulturgenuss-given2fly-0@pretix.eu
DTSTART;TZID=Europe/Berlin:20260424T200000
DTEND;TZID=Europe/Berlin:20260424T220000
DESCRIPTION:Tickets: https://pretix.eu/kulturgenuss/given2fly/\nVeranstalte
 r: KulturGenuss - Die Vortragsvereinigung Westerstede e.V.
DTSTAMP:20260423T062111Z
LOCATION:Meinardusstrasse 4\, 26655 Westerstede
SUMMARY:Given2Fly live – Pearl Jam Tribute vom Feinsten!
END:VEVENT
END:VCALENDAR
