BEGIN:VCALENDAR
VERSION:2.0
PRODID:-//pretix//pretix.eu//
BEGIN:VTIMEZONE
TZID:Europe/Copenhagen
BEGIN:STANDARD
DTSTART:20001029T040000
RRULE:FREQ=YEARLY;BYDAY=-1SU;BYMONTH=10
TZNAME:CET
TZOFFSETFROM:+0200
TZOFFSETTO:+0100
END:STANDARD
BEGIN:DAYLIGHT
DTSTART:20000326T030000
RRULE:FREQ=YEARLY;BYDAY=-1SU;BYMONTH=3
TZNAME:CEST
TZOFFSETFROM:+0100
TZOFFSETTO:+0200
END:DAYLIGHT
END:VTIMEZONE
BEGIN:VEVENT
UID:pretix-kulturogborgerhus-aabentfaellesskab-3939091@pretix.eu
DTSTART;TZID=Europe/Copenhagen:20230929T150000
DTEND;TZID=Europe/Copenhagen:20230929T170000
DESCRIPTION:Billetter: https://pretix.eu/kulturogborgerhus/aabentfaellesska
 b/3939091/\nOrganizer: Kultur- & Borgerhuset
DTSTAMP:20260425T140744Z
LOCATION:Vallensbæk Idrætscenter\, Tennishallerne\, Idræts Alle 8\, 2625
  Vallensbæk
SUMMARY:Tennistricks & -Tips for alle
END:VEVENT
END:VCALENDAR
