BEGIN:VCALENDAR
VERSION:2.0
PRODID:-//pretix//pretix.eu//
BEGIN:VTIMEZONE
TZID:Europe/Copenhagen
BEGIN:STANDARD
DTSTART:20001029T040000
RRULE:FREQ=YEARLY;BYDAY=-1SU;BYMONTH=10
TZNAME:CET
TZOFFSETFROM:+0200
TZOFFSETTO:+0100
END:STANDARD
BEGIN:DAYLIGHT
DTSTART:20000326T030000
RRULE:FREQ=YEARLY;BYDAY=-1SU;BYMONTH=3
TZNAME:CEST
TZOFFSETFROM:+0100
TZOFFSETTO:+0200
END:DAYLIGHT
END:VTIMEZONE
BEGIN:VEVENT
UID:pretix-kulturogborgerhus-sm9n3-4832211@pretix.eu
DTSTART;TZID=Europe/Copenhagen:20260217T110000
DTEND;TZID=Europe/Copenhagen:20260217T120000
DESCRIPTION:Billetter: https://pretix.eu/kulturogborgerhus/sm9n3/4832211/\n
 Organizer: Kultur- & Borgerhuset
DTSTAMP:20260419T165517Z
LOCATION:Vallensbæk Vand - og Idrætsby\, Idræts Allé 2\,\, 2625 Vallensbæk
SUMMARY:Riffelskydning\, hold 2: kl. 11-12 (for børn mindst 10 år)
END:VEVENT
END:VCALENDAR
