BEGIN:VCALENDAR
VERSION:2.0
PRODID:-//pretix//pretix.eu//
BEGIN:VTIMEZONE
TZID:Europe/Copenhagen
BEGIN:STANDARD
DTSTART:20001029T040000
RRULE:FREQ=YEARLY;BYDAY=-1SU;BYMONTH=10
TZNAME:CET
TZOFFSETFROM:+0200
TZOFFSETTO:+0100
END:STANDARD
BEGIN:DAYLIGHT
DTSTART:20000326T030000
RRULE:FREQ=YEARLY;BYDAY=-1SU;BYMONTH=3
TZNAME:CEST
TZOFFSETFROM:+0100
TZOFFSETTO:+0200
END:DAYLIGHT
END:VTIMEZONE
BEGIN:VEVENT
UID:pretix-kulturogborgerhus-sm9n3-4832220@pretix.eu
DTSTART;TZID=Europe/Copenhagen:20260218T100000
DTEND;TZID=Europe/Copenhagen:20260218T120000
DESCRIPTION:Billetter: https://pretix.eu/kulturogborgerhus/sm9n3/4832220/\n
 Organizer: Kultur- & Borgerhuset
DTSTAMP:20260419T183645Z
LOCATION:Vallensbæk Kultur - og Borgerhus\, Vallensbæk Stationstorv 40\,\
 , 2665 Vallensbæk Strand
SUMMARY:Perle-workshop med Anja Takacs
END:VEVENT
END:VCALENDAR
