BEGIN:VCALENDAR
VERSION:2.0
PRODID:-//pretix//pretix.eu//
BEGIN:VTIMEZONE
TZID:Europe/Berlin
BEGIN:STANDARD
DTSTART:20001029T040000
RRULE:FREQ=YEARLY;BYDAY=-1SU;BYMONTH=10
TZNAME:CET
TZOFFSETFROM:+0200
TZOFFSETTO:+0100
END:STANDARD
BEGIN:DAYLIGHT
DTSTART:20000326T030000
RRULE:FREQ=YEARLY;BYDAY=-1SU;BYMONTH=3
TZNAME:CEST
TZOFFSETFROM:+0100
TZOFFSETTO:+0200
END:DAYLIGHT
END:VTIMEZONE
BEGIN:VEVENT
UID:pretix-kulturringwaldbronn-kaleko-kaestner-0@pretix.eu
DTSTART;TZID=Europe/Berlin:20260927T180000
DTEND;TZID=Europe/Berlin:20260927T200000
DESCRIPTION:Tickets: https://pretix.eu/kulturringwaldbronn/kaleko-kaestner/
 \nEinlass: 27.09.2026 17:00\nVeranstalter: KulturringWaldbronn e. V.
DTSTAMP:20260424T174041Z
LOCATION:Kirche Herz-Jesu\, Kirchstraße 21\, 76337 Waldbronn-Etzenrot
SUMMARY:"Kalêko / Kästner" -  Eine literarische Annäherung mit Susanne B
 uchenberger und Martin Wacker
END:VEVENT
END:VCALENDAR
