BEGIN:VCALENDAR
VERSION:2.0
PRODID:-//pretix//pretix.eu//
BEGIN:VTIMEZONE
TZID:Europe/Berlin
BEGIN:STANDARD
DTSTART:20001029T040000
RRULE:FREQ=YEARLY;BYDAY=-1SU;BYMONTH=10
TZNAME:CET
TZOFFSETFROM:+0200
TZOFFSETTO:+0100
END:STANDARD
BEGIN:DAYLIGHT
DTSTART:20000326T030000
RRULE:FREQ=YEARLY;BYDAY=-1SU;BYMONTH=3
TZNAME:CEST
TZOFFSETFROM:+0100
TZOFFSETTO:+0200
END:DAYLIGHT
END:VTIMEZONE
BEGIN:VEVENT
UID:pretix-kulturringwaldbronn-murzarella-0@pretix.eu
DTSTART;TZID=Europe/Berlin:20251130T180000
DTEND;TZID=Europe/Berlin:20251130T200000
DESCRIPTION:Tickets: https://pretix.eu/kulturringwaldbronn/murzarella/\nEin
 lass: 30.11.2025 17:00\nVeranstalter: KulturringWaldbronn e. V.
DTSTAMP:20260423T033344Z
LOCATION:Kurhaus\, Etzenroter Straße 2\, 76337 Waldbronn
SUMMARY:Murzarella - "Bauchgesänge und andere Ungereimtheiten"
END:VEVENT
END:VCALENDAR
