BEGIN:VCALENDAR
VERSION:2.0
PRODID:-//pretix//pretix.eu//
BEGIN:VTIMEZONE
TZID:Europe/Berlin
BEGIN:STANDARD
DTSTART:20001029T040000
RRULE:FREQ=YEARLY;BYDAY=-1SU;BYMONTH=10
TZNAME:CET
TZOFFSETFROM:+0200
TZOFFSETTO:+0100
END:STANDARD
BEGIN:DAYLIGHT
DTSTART:20000326T030000
RRULE:FREQ=YEARLY;BYDAY=-1SU;BYMONTH=3
TZNAME:CEST
TZOFFSETFROM:+0100
TZOFFSETTO:+0200
END:DAYLIGHT
END:VTIMEZONE
BEGIN:VEVENT
UID:pretix-kune-kune-events-4316118@pretix.eu
DTSTART;TZID=Europe/Berlin:20250301T100000
DTEND;TZID=Europe/Berlin:20250301T110000
DESCRIPTION:Tickets: https://pretix.eu/kune/kune-events/4316118/\nVeranstal
 ter: KuneArts GmbH
DTSTAMP:20260423T045911Z
LOCATION:Hello Together\, Am Stadtgraben 19/1\, 72070 Tübingen
SUMMARY:HÄKELN – Kinderkurs im Hello Together\, TEIL II NUR MIT VORKENNT
 NISSEN
END:VEVENT
END:VCALENDAR
