BEGIN:VCALENDAR
VERSION:2.0
PRODID:-//pretix//pretix.eu//
BEGIN:VTIMEZONE
TZID:Europe/Berlin
BEGIN:STANDARD
DTSTART:20001029T040000
RRULE:FREQ=YEARLY;BYDAY=-1SU;BYMONTH=10
TZNAME:CET
TZOFFSETFROM:+0200
TZOFFSETTO:+0100
END:STANDARD
BEGIN:DAYLIGHT
DTSTART:20000326T030000
RRULE:FREQ=YEARLY;BYDAY=-1SU;BYMONTH=3
TZNAME:CEST
TZOFFSETFROM:+0100
TZOFFSETTO:+0200
END:DAYLIGHT
END:VTIMEZONE
BEGIN:VEVENT
UID:pretix-lawschool-260527-0@pretix.eu
DTSTART;TZID=Europe/Berlin:20260527T190000
DTEND;TZID=Europe/Berlin:20260527T200000
DESCRIPTION:Tickets: https://pretix.eu/lawschool/260527/\nEinlass: 27.05.20
 26 18:00\nVeranstalter: Bucerius Law School gGmbH
DTSTAMP:20260420T092415Z
LOCATION:Bucerius Law School\, Helmut Schmidt Auditorium\, Jungiusstraße 6
 \, 203555 Hamburg
SUMMARY:Mächtige Netzwerke: Wer prägt Deutschlands Wirtschaft?
END:VEVENT
END:VCALENDAR
