BEGIN:VCALENDAR
VERSION:2.0
PRODID:-//pretix//pretix.eu//
BEGIN:VTIMEZONE
TZID:Europe/Berlin
BEGIN:STANDARD
DTSTART:20001029T040000
RRULE:FREQ=YEARLY;BYDAY=-1SU;BYMONTH=10
TZNAME:CET
TZOFFSETFROM:+0200
TZOFFSETTO:+0100
END:STANDARD
BEGIN:DAYLIGHT
DTSTART:20000326T030000
RRULE:FREQ=YEARLY;BYDAY=-1SU;BYMONTH=3
TZNAME:CEST
TZOFFSETFROM:+0100
TZOFFSETTO:+0200
END:DAYLIGHT
END:VTIMEZONE
BEGIN:VEVENT
UID:pretix-leadership-academy-education-webinare-2778666@pretix.eu
DTSTART;TZID=Europe/Berlin:20221109T190000
DTEND;TZID=Europe/Berlin:20221109T210000
DESCRIPTION:Tickets: https://pretix.eu/leadership-academy-education/webinar
 e/2778666/\nVeranstalter: LEA Account 2021-2023
DTSTAMP:20260426T011143Z
LOCATION:Online
SUMMARY:W9: FREI DAY – Lernen\, die Welt zu verändern
END:VEVENT
END:VCALENDAR
