BEGIN:VCALENDAR
VERSION:2.0
PRODID:-//pretix//pretix.eu//
BEGIN:VTIMEZONE
TZID:Europe/Berlin
BEGIN:STANDARD
DTSTART:20001029T040000
RRULE:FREQ=YEARLY;BYDAY=-1SU;BYMONTH=10
TZNAME:CET
TZOFFSETFROM:+0200
TZOFFSETTO:+0100
END:STANDARD
BEGIN:DAYLIGHT
DTSTART:20000326T030000
RRULE:FREQ=YEARLY;BYDAY=-1SU;BYMONTH=3
TZNAME:CEST
TZOFFSETFROM:+0100
TZOFFSETTO:+0200
END:DAYLIGHT
END:VTIMEZONE
BEGIN:VEVENT
UID:pretix-learnfesthamburg-tickets-0@pretix.eu
DTSTART;TZID=Europe/Berlin:20260527T083000
DTEND;TZID=Europe/Berlin:20260527T173000
DESCRIPTION:Tickets: https://pretix.eu/learnfesthamburg/tickets/\nVeranstal
 ter: AILovesHR
DTSTAMP:20260421T192255Z
LOCATION:Überseehaus\, Baumwall 7\, 20459 Hamburg\, Germany
SUMMARY:AILovesHR LearnFest\, hosted by New Work SE
END:VEVENT
END:VCALENDAR
