BEGIN:VCALENDAR
VERSION:2.0
PRODID:-//pretix//pretix.eu//
BEGIN:VEVENT
UID:pretix-litcamphd-2020-0@pretix.eu
DTSTART;VALUE=DATE:20200626
DTEND;VALUE=DATE:20200629
DESCRIPTION:Tickets: https://pretix.eu/litcamphd/2020/\nVeranstalter: Liter
 aturcamp Heidelberg
DTSTAMP:20260423T033354Z
LOCATION:Dezernat 16\,\, Emil-Maier-Straße 16\, 69115 Heidelberg
SUMMARY:Literaturcamp 2020
END:VEVENT
END:VCALENDAR
