BEGIN:VCALENDAR
VERSION:2.0
PRODID:-//pretix//pretix.eu//
BEGIN:VTIMEZONE
TZID:Europe/Copenhagen
BEGIN:STANDARD
DTSTART:20001029T040000
RRULE:FREQ=YEARLY;BYDAY=-1SU;BYMONTH=10
TZNAME:CET
TZOFFSETFROM:+0200
TZOFFSETTO:+0100
END:STANDARD
BEGIN:DAYLIGHT
DTSTART:20000326T030000
RRULE:FREQ=YEARLY;BYDAY=-1SU;BYMONTH=3
TZNAME:CEST
TZOFFSETFROM:+0100
TZOFFSETTO:+0200
END:DAYLIGHT
END:VTIMEZONE
BEGIN:VEVENT
UID:pretix-litx-8s7g8-0@pretix.eu
DTSTART;TZID=Europe/Copenhagen:20220614T170000
DTEND;TZID=Europe/Copenhagen:20220614T180000
DESCRIPTION:Billetter: https://pretix.eu/litx/8s7g8/\nOrganizer: Literature
 Xchange
DTSTAMP:20260422T150131Z
LOCATION:Salen\, Risskov Bibliotek\, Fortebakken 1\, 8240 Risskov
SUMMARY:Hvis man ikke vidste bedre - mød Lotte Kirkeby
END:VEVENT
END:VCALENDAR
