BEGIN:VCALENDAR
VERSION:2.0
PRODID:-//pretix//pretix.eu//
BEGIN:VTIMEZONE
TZID:Europe/Berlin
BEGIN:STANDARD
DTSTART:20001029T040000
RRULE:FREQ=YEARLY;BYDAY=-1SU;BYMONTH=10
TZNAME:CET
TZOFFSETFROM:+0200
TZOFFSETTO:+0100
END:STANDARD
BEGIN:DAYLIGHT
DTSTART:20000326T030000
RRULE:FREQ=YEARLY;BYDAY=-1SU;BYMONTH=3
TZNAME:CEST
TZOFFSETFROM:+0100
TZOFFSETTO:+0200
END:DAYLIGHT
END:VTIMEZONE
BEGIN:VEVENT
UID:pretix-litx-eztlg-0@pretix.eu
DTSTART;TZID=Europe/Berlin:20260618T123000
DTEND;TZID=Europe/Berlin:20260618T140000
DESCRIPTION:Billetter: https://pretix.eu/litx/eztlg/\nOrganizer: Literature
 Xchange
DTSTAMP:20260421T192301Z
LOCATION:Shima\, Ceresbyen 20\, st.
SUMMARY:Sydkorea set gennem litteraturen – oplæg og frokost
END:VEVENT
END:VCALENDAR
