BEGIN:VCALENDAR
VERSION:2.0
PRODID:-//pretix//pretix.eu//
BEGIN:VTIMEZONE
TZID:Europe/Copenhagen
BEGIN:STANDARD
DTSTART:20001029T040000
RRULE:FREQ=YEARLY;BYDAY=-1SU;BYMONTH=10
TZNAME:CET
TZOFFSETFROM:+0200
TZOFFSETTO:+0100
END:STANDARD
BEGIN:DAYLIGHT
DTSTART:20000326T030000
RRULE:FREQ=YEARLY;BYDAY=-1SU;BYMONTH=3
TZNAME:CEST
TZOFFSETFROM:+0100
TZOFFSETTO:+0200
END:DAYLIGHT
END:VTIMEZONE
BEGIN:VEVENT
UID:pretix-litx-sfz7q-0@pretix.eu
DTSTART;TZID=Europe/Copenhagen:20260613T120000
DTEND;TZID=Europe/Copenhagen:20260613T130000
DESCRIPTION:Billetter: https://pretix.eu/litx/sfz7q/\nOrganizer: Literature
 Xchange
DTSTAMP:20260421T192259Z
LOCATION:Bibliotekshaven\, Gellerup Bibliotek\, Karen Blixens Boulevard 23\
 , 8220 Gellerup
SUMMARY:Højtlæsning i Bibliotekshaven
END:VEVENT
END:VCALENDAR
