BEGIN:VCALENDAR
VERSION:2.0
PRODID:-//pretix//pretix.eu//
BEGIN:VTIMEZONE
TZID:Europe/Berlin
BEGIN:STANDARD
DTSTART:20001029T040000
RRULE:FREQ=YEARLY;BYDAY=-1SU;BYMONTH=10
TZNAME:CET
TZOFFSETFROM:+0200
TZOFFSETTO:+0100
END:STANDARD
BEGIN:DAYLIGHT
DTSTART:20000326T030000
RRULE:FREQ=YEARLY;BYDAY=-1SU;BYMONTH=3
TZNAME:CEST
TZOFFSETFROM:+0100
TZOFFSETTO:+0200
END:DAYLIGHT
END:VTIMEZONE
BEGIN:VEVENT
UID:pretix-litx-ykf73-0@pretix.eu
DTSTART;TZID=Europe/Berlin:20260617T160000
DTEND;TZID=Europe/Berlin:20260617T163000
DESCRIPTION:Billetter: https://pretix.eu/litx/ykf73/\nOrganizer: Literature
 Xchange
DTSTAMP:20260421T192307Z
LOCATION:Bernhardt Jensens cykelskulptur\, Åboulevarden 41
SUMMARY:Smukkere med ord - oplæsninger i byen
END:VEVENT
END:VCALENDAR
