BEGIN:VCALENDAR
VERSION:2.0
PRODID:-//pretix//pretix.eu//
BEGIN:VTIMEZONE
TZID:Europe/Berlin
BEGIN:STANDARD
DTSTART:20001029T040000
RRULE:FREQ=YEARLY;BYDAY=-1SU;BYMONTH=10
TZNAME:CET
TZOFFSETFROM:+0200
TZOFFSETTO:+0100
END:STANDARD
BEGIN:DAYLIGHT
DTSTART:20000326T030000
RRULE:FREQ=YEARLY;BYDAY=-1SU;BYMONTH=3
TZNAME:CEST
TZOFFSETFROM:+0100
TZOFFSETTO:+0200
END:DAYLIGHT
END:VTIMEZONE
BEGIN:VEVENT
UID:pretix-liveatbedroomdisco-mrfkk-0@pretix.eu
DTSTART;TZID=Europe/Berlin:20241215T200000
DTEND;TZID=Europe/Berlin:20241215T220000
DESCRIPTION:Tickets: https://pretix.eu/liveatbedroomdisco/mrfkk/\nAdmission
 : 2024-12-15 19:00\nOrganizer: Live at Bedroomdisco e.V.
DTSTAMP:20260426T030409Z
LOCATION:secret\, Darmstadt
SUMMARY:Wohnzimmerkonzert mit So Soon & Days of August
END:VEVENT
END:VCALENDAR
