BEGIN:VCALENDAR
VERSION:2.0
PRODID:-//pretix//pretix.eu//
BEGIN:VTIMEZONE
TZID:Europe/Berlin
BEGIN:STANDARD
DTSTART:20001029T040000
RRULE:FREQ=YEARLY;BYDAY=-1SU;BYMONTH=10
TZNAME:CET
TZOFFSETFROM:+0200
TZOFFSETTO:+0100
END:STANDARD
BEGIN:DAYLIGHT
DTSTART:20000326T030000
RRULE:FREQ=YEARLY;BYDAY=-1SU;BYMONTH=3
TZNAME:CEST
TZOFFSETFROM:+0100
TZOFFSETTO:+0200
END:DAYLIGHT
END:VTIMEZONE
BEGIN:VEVENT
UID:pretix-lsfb-IW-Chb-vor-Ort-0@pretix.eu
DTSTART;TZID=Europe/Berlin:20260429T180000
DTEND;TZID=Europe/Berlin:20260429T200000
DESCRIPTION:Tickets: https://pretix.eu/lsfb/IW-Chb-vor-Ort/\nVeranstalter: 
 Landesverband der Kita- und Schulfördervereine Berlin-Brandenburg e.V. (l
 sfb)
DTSTAMP:20260425T030640Z
LOCATION:Foyer der Paula-Fürst-Gemeinschaftsschule\, Sybelstr. 20/21\, 106
 29 Berlin-Charlottenburg
SUMMARY:lsfb-Ideenwerkstatt: Austauschtreffen von Engagierten der Kita- und
  Schulfördervereine aus Berlin und Brandenburg
END:VEVENT
END:VCALENDAR
