BEGIN:VCALENDAR
VERSION:2.0
PRODID:-//pretix//pretix.eu//
BEGIN:VTIMEZONE
TZID:Europe/Berlin
BEGIN:STANDARD
DTSTART:20001029T040000
RRULE:FREQ=YEARLY;BYDAY=-1SU;BYMONTH=10
TZNAME:CET
TZOFFSETFROM:+0200
TZOFFSETTO:+0100
END:STANDARD
BEGIN:DAYLIGHT
DTSTART:20000326T030000
RRULE:FREQ=YEARLY;BYDAY=-1SU;BYMONTH=3
TZNAME:CEST
TZOFFSETFROM:+0100
TZOFFSETTO:+0200
END:DAYLIGHT
END:VTIMEZONE
BEGIN:VEVENT
UID:pretix-lssbe-nrw-engagement-027-0@pretix.eu
DTSTART;TZID=Europe/Berlin:20260416T170000
DTEND;TZID=Europe/Berlin:20260416T183000
DESCRIPTION:Tickets: https://pretix.eu/lssbe-nrw/engagement-027/\nVeranstal
 ter: Landesservicestelle für bürgerschaftliches Engagement Nordrhein-Wes
 tfalen
DTSTAMP:20260425T132001Z
SUMMARY:Krisenkommunikation im Ehrenamt meistern
END:VEVENT
BEGIN:VEVENT
UID:pretix-lssbe-nrw-foerdermittel-043-0@pretix.eu
DTSTART;TZID=Europe/Berlin:20260428T170000
DTEND;TZID=Europe/Berlin:20260428T183000
DESCRIPTION:Tickets: https://pretix.eu/lssbe-nrw/foerdermittel-043/\nVerans
 talter: Landesservicestelle für bürgerschaftliches Engagement Nordrhein-
 Westfalen
DTSTAMP:20260425T132001Z
SUMMARY:Umweltschecks „Naturschutz" NRW
END:VEVENT
BEGIN:VEVENT
UID:pretix-lssbe-nrw-foerdermittel-044-0@pretix.eu
DTSTART;TZID=Europe/Berlin:20260505T170000
DTEND;TZID=Europe/Berlin:20260505T181500
DESCRIPTION:Tickets: https://pretix.eu/lssbe-nrw/foerdermittel-044/\nVerans
 talter: Landesservicestelle für bürgerschaftliches Engagement Nordrhein-
 Westfalen
DTSTAMP:20260425T132001Z
SUMMARY:Landesinitiative Europa-Schecks: Starkes Europa in NRW
END:VEVENT
BEGIN:VEVENT
UID:pretix-lssbe-nrw-recht-regeln-035-0@pretix.eu
DTSTART;TZID=Europe/Berlin:20260506T121500
DTEND;TZID=Europe/Berlin:20260506T125000
DESCRIPTION:Tickets: https://pretix.eu/lssbe-nrw/recht-regeln-035/\nVeranst
 alter: Landesservicestelle für bürgerschaftliches Engagement Nordrhein-W
 estfalen
DTSTAMP:20260425T132001Z
SUMMARY:Rücklagen und Vermögensbildung im gemeinnützigen Verein
END:VEVENT
BEGIN:VEVENT
UID:pretix-lssbe-nrw-digitalisierung-001-0@pretix.eu
DTSTART;TZID=Europe/Berlin:20260506T170000
DTEND;TZID=Europe/Berlin:20260506T183000
DESCRIPTION:Tickets: https://pretix.eu/lssbe-nrw/digitalisierung-001/\nVera
 nstalter: Landesservicestelle für bürgerschaftliches Engagement Nordrhei
 n-Westfalen
DTSTAMP:20260425T132001Z
SUMMARY:Digitalisierung: Was bedeutet das eigentlich für Vereine?
END:VEVENT
BEGIN:VEVENT
UID:pretix-lssbe-nrw-recht-regeln-036-0@pretix.eu
DTSTART;TZID=Europe/Berlin:20260520T121500
DTEND;TZID=Europe/Berlin:20260520T125000
DESCRIPTION:Tickets: https://pretix.eu/lssbe-nrw/recht-regeln-036/\nVeranst
 alter: Landesservicestelle für bürgerschaftliches Engagement Nordrhein-W
 estfalen
DTSTAMP:20260425T132001Z
SUMMARY:Engagiert ohne Verein - mögliche Rechtsformen im Ehrenamt
END:VEVENT
BEGIN:VEVENT
UID:pretix-lssbe-nrw-recht-regeln-033-0@pretix.eu
DTSTART;TZID=Europe/Berlin:20260527T121500
DTEND;TZID=Europe/Berlin:20260527T125000
DESCRIPTION:Tickets: https://pretix.eu/lssbe-nrw/recht-regeln-033/\nVeranst
 alter: Landesservicestelle für bürgerschaftliches Engagement Nordrhein-W
 estfalen
DTSTAMP:20260425T132001Z
SUMMARY:Gemeinnützigkeit in der Praxis
END:VEVENT
BEGIN:VEVENT
UID:pretix-lssbe-nrw-engagement-030-0@pretix.eu
DTSTART;TZID=Europe/Berlin:20260528T170000
DTEND;TZID=Europe/Berlin:20260528T183000
DESCRIPTION:Tickets: https://pretix.eu/lssbe-nrw/engagement-030/\nVeranstal
 ter: Landesservicestelle für bürgerschaftliches Engagement Nordrhein-Wes
 tfalen
DTSTAMP:20260425T132001Z
SUMMARY:Wie bringe ich meine Projektidee voran und gründe eine Initiative?
END:VEVENT
BEGIN:VEVENT
UID:pretix-lssbe-nrw-digitalisierung-002-0@pretix.eu
DTSTART;TZID=Europe/Berlin:20260602T170000
DTEND;TZID=Europe/Berlin:20260602T183000
DESCRIPTION:Tickets: https://pretix.eu/lssbe-nrw/digitalisierung-002/\nVera
 nstalter: Landesservicestelle für bürgerschaftliches Engagement Nordrhei
 n-Westfalen
DTSTAMP:20260425T132001Z
SUMMARY:Digitale Vereinsarbeit erfolgreich an den Start bringen
END:VEVENT
BEGIN:VEVENT
UID:pretix-lssbe-nrw-engagement-016-0@pretix.eu
DTSTART;TZID=Europe/Berlin:20260611T170000
DTEND;TZID=Europe/Berlin:20260611T183000
DESCRIPTION:Tickets: https://pretix.eu/lssbe-nrw/engagement-016/\nVeranstal
 ter: Landesservicestelle für bürgerschaftliches Engagement Nordrhein-Wes
 tfalen
DTSTAMP:20260425T132001Z
SUMMARY:Gemeinsam gegen Rassismus im Ehrenamt (Teil 1)
END:VEVENT
BEGIN:VEVENT
UID:pretix-lssbe-nrw-digitalisierung-003-0@pretix.eu
DTSTART;TZID=Europe/Berlin:20260615T170000
DTEND;TZID=Europe/Berlin:20260615T183000
DESCRIPTION:Tickets: https://pretix.eu/lssbe-nrw/digitalisierung-003/\nVera
 nstalter: Landesservicestelle für bürgerschaftliches Engagement Nordrhei
 n-Westfalen
DTSTAMP:20260425T132001Z
SUMMARY:Digitale Vereinsorganisation: Tools\, die euch voranbringen
END:VEVENT
BEGIN:VEVENT
UID:pretix-lssbe-nrw-recht-regeln-037-0@pretix.eu
DTSTART;TZID=Europe/Berlin:20260618T121500
DTEND;TZID=Europe/Berlin:20260618T125000
DESCRIPTION:Tickets: https://pretix.eu/lssbe-nrw/recht-regeln-037/\nVeranst
 alter: Landesservicestelle für bürgerschaftliches Engagement Nordrhein-W
 estfalen
DTSTAMP:20260425T132001Z
SUMMARY:Datenschutz auf der Vereinswebsite einfach erklärt
END:VEVENT
BEGIN:VEVENT
UID:pretix-lssbe-nrw-recht-regeln-034-0@pretix.eu
DTSTART;TZID=Europe/Berlin:20260624T121500
DTEND;TZID=Europe/Berlin:20260624T125000
DESCRIPTION:Tickets: https://pretix.eu/lssbe-nrw/recht-regeln-034/\nVeranst
 alter: Landesservicestelle für bürgerschaftliches Engagement Nordrhein-W
 estfalen
DTSTAMP:20260425T132001Z
SUMMARY:Ehrenamt als Nebentätigkeit
END:VEVENT
BEGIN:VEVENT
UID:pretix-lssbe-nrw-engagement-028-0@pretix.eu
DTSTART;TZID=Europe/Berlin:20260625T170000
DTEND;TZID=Europe/Berlin:20260625T190000
DESCRIPTION:Tickets: https://pretix.eu/lssbe-nrw/engagement-028/\nVeranstal
 ter: Landesservicestelle für bürgerschaftliches Engagement Nordrhein-Wes
 tfalen
DTSTAMP:20260425T132001Z
SUMMARY:Gemeinsam gegen Rassismus im Ehrenamt (Teil 2)
END:VEVENT
BEGIN:VEVENT
UID:pretix-lssbe-nrw-digitalisierung-004-0@pretix.eu
DTSTART;TZID=Europe/Berlin:20260629T170000
DTEND;TZID=Europe/Berlin:20260629T183000
DESCRIPTION:Tickets: https://pretix.eu/lssbe-nrw/digitalisierung-004/\nVera
 nstalter: Landesservicestelle für bürgerschaftliches Engagement Nordrhei
 n-Westfalen
DTSTAMP:20260425T132001Z
SUMMARY:Vereine digital organisieren: Wissen und Kommunikation
END:VEVENT
BEGIN:VEVENT
UID:pretix-lssbe-nrw-digitalisierung-005-0@pretix.eu
DTSTART;TZID=Europe/Berlin:20260701T170000
DTEND;TZID=Europe/Berlin:20260701T183000
DESCRIPTION:Tickets: https://pretix.eu/lssbe-nrw/digitalisierung-005/\nVera
 nstalter: Landesservicestelle für bürgerschaftliches Engagement Nordrhei
 n-Westfalen
DTSTAMP:20260425T132001Z
SUMMARY:Digitale Mitgliederversammlung mit Online-Wahl
END:VEVENT
BEGIN:VEVENT
UID:pretix-lssbe-nrw-foerdermittel-041-0@pretix.eu
DTSTART;TZID=Europe/Berlin:20260714T170000
DTEND;TZID=Europe/Berlin:20260714T181500
DESCRIPTION:Tickets: https://pretix.eu/lssbe-nrw/foerdermittel-041/\nVerans
 talter: Landesservicestelle für bürgerschaftliches Engagement Nordrhein-
 Westfalen
DTSTAMP:20260425T132001Z
SUMMARY:Unterstützung für Projekte zur Gewaltprävention (CERV-Aktionsber
 eich Daphne)
END:VEVENT
BEGIN:VEVENT
UID:pretix-lssbe-nrw-digitalisierung-006-0@pretix.eu
DTSTART;TZID=Europe/Berlin:20260914T170000
DTEND;TZID=Europe/Berlin:20260914T183000
DESCRIPTION:Tickets: https://pretix.eu/lssbe-nrw/digitalisierung-006/\nVera
 nstalter: Landesservicestelle für bürgerschaftliches Engagement Nordrhei
 n-Westfalen
DTSTAMP:20260425T132001Z
SUMMARY:Was ist Künstliche Intelligenz (KI)? Grundlagen für Engagierte
END:VEVENT
BEGIN:VEVENT
UID:pretix-lssbe-nrw-digitalisierung-007-0@pretix.eu
DTSTART;TZID=Europe/Berlin:20260928T170000
DTEND;TZID=Europe/Berlin:20260928T190000
DESCRIPTION:Tickets: https://pretix.eu/lssbe-nrw/digitalisierung-007/\nVera
 nstalter: Landesservicestelle für bürgerschaftliches Engagement Nordrhei
 n-Westfalen
DTSTAMP:20260425T132001Z
SUMMARY:KI im Verein: Smarter planen\, entscheiden\, zusammenarbeiten
END:VEVENT
BEGIN:VEVENT
UID:pretix-lssbe-nrw-digitalisierung-009-0@pretix.eu
DTSTART;TZID=Europe/Berlin:20261111T120000
DTEND;TZID=Europe/Berlin:20261111T130000
DESCRIPTION:Tickets: https://pretix.eu/lssbe-nrw/digitalisierung-009/\nVera
 nstalter: Landesservicestelle für bürgerschaftliches Engagement Nordrhei
 n-Westfalen
DTSTAMP:20260425T132001Z
SUMMARY:KI im Ehrenamt: Datenschutz & Co. im Blick
END:VEVENT
BEGIN:VEVENT
UID:pretix-lssbe-nrw-recht-regeln-040-0@pretix.eu
DTSTART;TZID=Europe/Berlin:20261118T121500
DTEND;TZID=Europe/Berlin:20261118T125000
DESCRIPTION:Tickets: https://pretix.eu/lssbe-nrw/recht-regeln-040/\nVeranst
 alter: Landesservicestelle für bürgerschaftliches Engagement Nordrhein-W
 estfalen
DTSTAMP:20260425T132001Z
SUMMARY:Im Vereinsvorstand – welche Rechte und Pflichten sind zu beachten?
END:VEVENT
END:VCALENDAR
