BEGIN:VCALENDAR
VERSION:2.0
PRODID:-//pretix//pretix.eu//
BEGIN:VTIMEZONE
TZID:Europe/Berlin
BEGIN:STANDARD
DTSTART:20001029T040000
RRULE:FREQ=YEARLY;BYDAY=-1SU;BYMONTH=10
TZNAME:CET
TZOFFSETFROM:+0200
TZOFFSETTO:+0100
END:STANDARD
BEGIN:DAYLIGHT
DTSTART:20000326T030000
RRULE:FREQ=YEARLY;BYDAY=-1SU;BYMONTH=3
TZNAME:CEST
TZOFFSETFROM:+0100
TZOFFSETTO:+0200
END:DAYLIGHT
END:VTIMEZONE
BEGIN:VEVENT
UID:pretix-luekaz-ferrum-0@pretix.eu
DTSTART;TZID=Europe/Berlin:20251025T200000
DTEND;TZID=Europe/Berlin:20251026T030000
DESCRIPTION:Tickets: https://pretix.eu/luekaz/ferrum/\nEinlass: 25.10.2025 
 19:00\nVeranstalter: Lükaz - Lüner Kultur- und Aktionszentrum
DTSTAMP:20260424T174001Z
SUMMARY:Ferrum 2.0 – DIE PARTY (Party Classics und das Beste von heute)
END:VEVENT
END:VCALENDAR
