BEGIN:VCALENDAR
VERSION:2.0
PRODID:-//pretix//pretix.eu//
BEGIN:VTIMEZONE
TZID:Europe/Berlin
BEGIN:STANDARD
DTSTART:20001029T040000
RRULE:FREQ=YEARLY;BYDAY=-1SU;BYMONTH=10
TZNAME:CET
TZOFFSETFROM:+0200
TZOFFSETTO:+0100
END:STANDARD
BEGIN:DAYLIGHT
DTSTART:20000326T030000
RRULE:FREQ=YEARLY;BYDAY=-1SU;BYMONTH=3
TZNAME:CEST
TZOFFSETFROM:+0100
TZOFFSETTO:+0200
END:DAYLIGHT
END:VTIMEZONE
BEGIN:VEVENT
UID:pretix-luft-farben-4904907@pretix.eu
DTSTART;TZID=Europe/Berlin:20260502T190000
DTEND;TZID=Europe/Berlin:20260502T203000
DESCRIPTION:Tickets: https://pretix.eu/luft/farben/4904907/\nEinlass: 02.05
 .2026 18:30\nVeranstalter: Maksym Iievliev
DTSTAMP:20260420T173902Z
LOCATION:Schauspielschule der Gemeinnützigen\, Königstraße 17\, Lübeck
SUMMARY:Mystisches Drama "Farben" (mit deutscher Simultanübersetzung)
END:VEVENT
END:VCALENDAR
