BEGIN:VCALENDAR
VERSION:2.0
PRODID:-//pretix//pretix.eu//
BEGIN:VTIMEZONE
TZID:Europe/Berlin
BEGIN:STANDARD
DTSTART:20001029T040000
RRULE:FREQ=YEARLY;BYDAY=-1SU;BYMONTH=10
TZNAME:CET
TZOFFSETFROM:+0200
TZOFFSETTO:+0100
END:STANDARD
BEGIN:DAYLIGHT
DTSTART:20000326T030000
RRULE:FREQ=YEARLY;BYDAY=-1SU;BYMONTH=3
TZNAME:CEST
TZOFFSETFROM:+0100
TZOFFSETTO:+0200
END:DAYLIGHT
END:VTIMEZONE
BEGIN:VEVENT
UID:pretix-lunited-ehrenamtsspieltag-0@pretix.eu
DTSTART;TZID=Europe/Berlin:20260523T180000
DTEND;TZID=Europe/Berlin:20260523T190000
DESCRIPTION:Tickets: https://pretix.eu/lunited/ehrenamtsspieltag/\nEinlass:
  23.05.2026 16:30\nVeranstalter: LUnited
DTSTAMP:20260421T131538Z
LOCATION:Eberthalle
SUMMARY:#EHRENamtsspielTAG
END:VEVENT
END:VCALENDAR
