BEGIN:VCALENDAR
VERSION:2.0
PRODID:-//pretix//pretix.eu//
BEGIN:VTIMEZONE
TZID:Europe/Berlin
BEGIN:STANDARD
DTSTART:20001029T040000
RRULE:FREQ=YEARLY;BYDAY=-1SU;BYMONTH=10
TZNAME:CET
TZOFFSETFROM:+0200
TZOFFSETTO:+0100
END:STANDARD
BEGIN:DAYLIGHT
DTSTART:20000326T030000
RRULE:FREQ=YEARLY;BYDAY=-1SU;BYMONTH=3
TZNAME:CEST
TZOFFSETFROM:+0100
TZOFFSETTO:+0200
END:DAYLIGHT
END:VTIMEZONE
BEGIN:VEVENT
UID:pretix-m-m-cs-vmaha-8-0@pretix.eu
DTSTART;TZID=Europe/Berlin:20240125T160000
DTEND;TZID=Europe/Berlin:20240125T190000
DESCRIPTION:Tickets: https://pretix.eu/m-m-cs/vmaha-8/\nVeranstalter: Meyer
 -Martin Consulting Services GmbH
DTSTAMP:20260422T150128Z
LOCATION:Zoom\, Link wird noch bekannt gegeben
SUMMARY:Gemeinsam Machen: Civic Data Lab x CiviCRM Community
END:VEVENT
END:VCALENDAR
