BEGIN:VCALENDAR
VERSION:2.0
PRODID:-//pretix//pretix.eu//
BEGIN:VTIMEZONE
TZID:Africa/Johannesburg
BEGIN:STANDARD
DTSTART:20000101T000000
RRULE:FREQ=YEARLY;BYMONTH=1
TZNAME:SAST
TZOFFSETFROM:+0200
TZOFFSETTO:+0200
END:STANDARD
END:VTIMEZONE
BEGIN:VEVENT
UID:pretix-machankura-ab24capetown-0@pretix.eu
DTSTART;TZID=Africa/Johannesburg:20240126T080000
DTEND;TZID=Africa/Johannesburg:20240128T235959
DESCRIPTION:Tickets: https://pretix.eu/machankura/ab24capetown/\nOrganizer:
  ABCT
DTSTAMP:20260423T230958Z
LOCATION:CTICC (Cape Town International Convention Centre)\, Convention Squ
 are\, 1 Lower Long Street\, Cape Town\, 8001\, South Africa
SUMMARY:Adopting Bitcoin Cape Town
END:VEVENT
END:VCALENDAR
