BEGIN:VCALENDAR
VERSION:2.0
PRODID:-//pretix//pretix.eu//
BEGIN:VTIMEZONE
TZID:Africa/Johannesburg
BEGIN:STANDARD
DTSTART:20000101T000000
RRULE:FREQ=YEARLY;BYMONTH=1
TZNAME:SAST
TZOFFSETFROM:+0200
TZOFFSETTO:+0200
END:STANDARD
END:VTIMEZONE
BEGIN:VEVENT
UID:pretix-machankura-stellies25-0@pretix.eu
DTSTART;TZID=Africa/Johannesburg:20251004T100000
DTEND;TZID=Africa/Johannesburg:20251004T170000
DESCRIPTION:Tickets: https://pretix.eu/machankura/stellies25/\nAdmission: 2
 025-10-04 09:00\nOrganizer: ABCT
DTSTAMP:20260421T183128Z
LOCATION:Hofmeyrsaal\, Church Street\, Stellenbosch
SUMMARY:Stellenbosch Symposium 2025
END:VEVENT
END:VCALENDAR
