BEGIN:VCALENDAR
VERSION:2.0
PRODID:-//pretix//pretix.eu//
BEGIN:VTIMEZONE
TZID:Europe/Berlin
BEGIN:STANDARD
DTSTART:20001029T040000
RRULE:FREQ=YEARLY;BYDAY=-1SU;BYMONTH=10
TZNAME:CET
TZOFFSETFROM:+0200
TZOFFSETTO:+0100
END:STANDARD
BEGIN:DAYLIGHT
DTSTART:20000326T030000
RRULE:FREQ=YEARLY;BYDAY=-1SU;BYMONTH=3
TZNAME:CEST
TZOFFSETFROM:+0100
TZOFFSETTO:+0200
END:DAYLIGHT
END:VTIMEZONE
BEGIN:VEVENT
UID:pretix-makerspace-rundertischlaser-4492360@pretix.eu
DTSTART;TZID=Europe/Berlin:20250225T180000
DTEND;TZID=Europe/Berlin:20250225T200000
DESCRIPTION:Tickets: https://pretix.eu/makerspace/rundertischlaser/4492360/
 \nVeranstalter: makerspace Braunschweig
DTSTAMP:20260419T224551Z
LOCATION:makerspace Braunschweig\, Hamburger Str. 49\, 38114 Braunschweig
SUMMARY:Runder Tisch - Camperausbau
END:VEVENT
END:VCALENDAR
