BEGIN:VCALENDAR
VERSION:2.0
PRODID:-//pretix//pretix.eu//
BEGIN:VTIMEZONE
TZID:Europe/Berlin
BEGIN:STANDARD
DTSTART:20001029T040000
RRULE:FREQ=YEARLY;BYDAY=-1SU;BYMONTH=10
TZNAME:CET
TZOFFSETFROM:+0200
TZOFFSETTO:+0100
END:STANDARD
BEGIN:DAYLIGHT
DTSTART:20000326T030000
RRULE:FREQ=YEARLY;BYDAY=-1SU;BYMONTH=3
TZNAME:CEST
TZOFFSETFROM:+0100
TZOFFSETTO:+0200
END:DAYLIGHT
END:VTIMEZONE
BEGIN:VEVENT
UID:pretix-malvadaprod-Benjacph2025-0@pretix.eu
DTSTART;TZID=Europe/Berlin:20250404T200000
DTEND;TZID=Europe/Berlin:20250404T233000
DESCRIPTION:Tickets: https://pretix.eu/malvadaprod/Benjacph2025/\nOrganizer
 : Malvada productions
DTSTAMP:20260423T022440Z
LOCATION:Børskaj 12\, 1221 Indre By
SUMMARY:Benjamin Amadeo | KAYAK BAR - KØBENHAVN | 04.04.2025 | TICKETS
END:VEVENT
END:VCALENDAR
