BEGIN:VCALENDAR
VERSION:2.0
PRODID:-//pretix//pretix.eu//
BEGIN:VTIMEZONE
TZID:Europe/Berlin
BEGIN:STANDARD
DTSTART:20001029T040000
RRULE:FREQ=YEARLY;BYDAY=-1SU;BYMONTH=10
TZNAME:CET
TZOFFSETFROM:+0200
TZOFFSETTO:+0100
END:STANDARD
BEGIN:DAYLIGHT
DTSTART:20000326T030000
RRULE:FREQ=YEARLY;BYDAY=-1SU;BYMONTH=3
TZNAME:CEST
TZOFFSETFROM:+0100
TZOFFSETTO:+0200
END:DAYLIGHT
END:VTIMEZONE
BEGIN:VEVENT
UID:pretix-marketingtechsummit-mts-mtm24-0@pretix.eu
DTSTART;TZID=Europe/Berlin:20241008T150000
DTEND;TZID=Europe/Berlin:20241009T235500
DESCRIPTION:Tickets: https://pretix.eu/marketingtechsummit/mts-mtm24/\nEinl
 ass: 08.10.2024 15:00\nVeranstalter: Marketing Tech Lab GmbH
DTSTAMP:20260419T143445Z
LOCATION:Bolle Festsäle\, Alt-Moabit 98\, 10559 Berlin
SUMMARY:Marketing Tech Summit 2024 / Monitor 2024
END:VEVENT
END:VCALENDAR
