BEGIN:VCALENDAR
VERSION:2.0
PRODID:-//pretix//pretix.eu//
BEGIN:VTIMEZONE
TZID:Europe/Berlin
BEGIN:STANDARD
DTSTART:20001029T040000
RRULE:FREQ=YEARLY;BYDAY=-1SU;BYMONTH=10
TZNAME:CET
TZOFFSETFROM:+0200
TZOFFSETTO:+0100
END:STANDARD
BEGIN:DAYLIGHT
DTSTART:20000326T030000
RRULE:FREQ=YEARLY;BYDAY=-1SU;BYMONTH=3
TZNAME:CEST
TZOFFSETFROM:+0100
TZOFFSETTO:+0200
END:DAYLIGHT
END:VTIMEZONE
BEGIN:VEVENT
UID:pretix-markuskirche-karfreitag-0@pretix.eu
DTSTART;TZID=Europe/Berlin:20210402T093000
DTEND;TZID=Europe/Berlin:20210402T103000
DESCRIPTION:Tickets: https://pretix.eu/markuskirche/karfreitag/\nVeranstalt
 er: Evang.-Luth. Kirchengemeinde Ingolstadt-St. Markus
DTSTAMP:20260420T123458Z
LOCATION:Markuskirche Ingolstadt\, Münchener Str. 36
SUMMARY:Karfreitagsgottesdienst St. Markus 9.30 Uhr
END:VEVENT
END:VCALENDAR
