BEGIN:VCALENDAR
VERSION:2.0
PRODID:-//pretix//pretix.eu//
BEGIN:VTIMEZONE
TZID:Europe/Berlin
BEGIN:STANDARD
DTSTART:20001029T040000
RRULE:FREQ=YEARLY;BYDAY=-1SU;BYMONTH=10
TZNAME:CET
TZOFFSETFROM:+0200
TZOFFSETTO:+0100
END:STANDARD
BEGIN:DAYLIGHT
DTSTART:20000326T030000
RRULE:FREQ=YEARLY;BYDAY=-1SU;BYMONTH=3
TZNAME:CEST
TZOFFSETFROM:+0100
TZOFFSETTO:+0200
END:DAYLIGHT
END:VTIMEZONE
BEGIN:VEVENT
UID:pretix-mcn-afterwork2024-0@pretix.eu
DTSTART;TZID=Europe/Berlin:20241209T180000
DTEND;TZID=Europe/Berlin:20241209T200000
DESCRIPTION:Tickets: https://pretix.eu/mcn/afterwork2024/\nEinlass: 09.12.2
 024 17:30\nVeranstalter: Marketing Club Nürnberg e.V.
DTSTAMP:20260420T103823Z
LOCATION:Bahnhofsplatz 1\, 90443 Nürnberg
SUMMARY:Afterwork 2024 im "The Cloud One" des Motel One Nürnberg - auch f
 ür Gäste und Interessenten
END:VEVENT
END:VCALENDAR
