BEGIN:VCALENDAR
VERSION:2.0
PRODID:-//pretix//pretix.eu//
BEGIN:VTIMEZONE
TZID:Europe/Berlin
BEGIN:STANDARD
DTSTART:20001029T040000
RRULE:FREQ=YEARLY;BYDAY=-1SU;BYMONTH=10
TZNAME:CET
TZOFFSETFROM:+0200
TZOFFSETTO:+0100
END:STANDARD
BEGIN:DAYLIGHT
DTSTART:20000326T030000
RRULE:FREQ=YEARLY;BYDAY=-1SU;BYMONTH=3
TZNAME:CEST
TZOFFSETFROM:+0100
TZOFFSETTO:+0200
END:DAYLIGHT
END:VTIMEZONE
BEGIN:VEVENT
UID:pretix-mcn-eta-0@pretix.eu
DTSTART;TZID=Europe/Berlin:20251117T183000
DTEND;TZID=Europe/Berlin:20251117T200000
DESCRIPTION:Tickets: https://pretix.eu/mcn/eta/\nEinlass: 17.11.2025 18:00\
 nVeranstalter: Marketing Club Nürnberg e.V.
DTSTAMP:20260420T103828Z
LOCATION:Gewerbemuseumsplatz 2\, 90403 Nürnberg
SUMMARY:“Clash of Generations” oder lieber „Hand in Hand in die Zukunft“?
END:VEVENT
END:VCALENDAR
