BEGIN:VCALENDAR
VERSION:2.0
PRODID:-//pretix//pretix.eu//
BEGIN:VTIMEZONE
TZID:Europe/Berlin
BEGIN:STANDARD
DTSTART:20001029T040000
RRULE:FREQ=YEARLY;BYDAY=-1SU;BYMONTH=10
TZNAME:CET
TZOFFSETFROM:+0200
TZOFFSETTO:+0100
END:STANDARD
BEGIN:DAYLIGHT
DTSTART:20000326T030000
RRULE:FREQ=YEARLY;BYDAY=-1SU;BYMONTH=3
TZNAME:CEST
TZOFFSETFROM:+0100
TZOFFSETTO:+0200
END:DAYLIGHT
END:VTIMEZONE
BEGIN:VEVENT
UID:pretix-mcn-mgv26-0@pretix.eu
DTSTART;TZID=Europe/Berlin:20260325T183000
DTEND;TZID=Europe/Berlin:20260325T203000
DESCRIPTION:Tickets: https://pretix.eu/mcn/mgv26/\nEinlass: 25.03.2026 18:0
 0\nVeranstalter: Marketing Club Nürnberg e.V.
DTSTAMP:20260420T053320Z
LOCATION:Gewerbemuseumsplatz 2\, 90403 Nürnberg
SUMMARY:Mitgliederversammlung 2026
END:VEVENT
BEGIN:VEVENT
UID:pretix-mcn-bd-0@pretix.eu
DTSTART;TZID=Europe/Berlin:20260421T183000
DTEND;TZID=Europe/Berlin:20260421T220000
DESCRIPTION:Tickets: https://pretix.eu/mcn/bd/\nEinlass: 21.04.2026 18:00\n
 Veranstalter: Marketing Club Nürnberg e.V.
DTSTAMP:20260420T053320Z
LOCATION:Neues Museum - Staatliches Museum für Kunst und Design Nürnberg\
 , Luitpoldstraße 5\, Eingang über den Klarissenplatz\, 90402 Nürnberg
SUMMARY:bayern design - Nachhaltiger\, sozialer\, wettbewerbsfähiger: Das 
 kann Design
END:VEVENT
BEGIN:VEVENT
UID:pretix-mcn-vnp1-0@pretix.eu
DTSTART;TZID=Europe/Berlin:20260507T183000
DTEND;TZID=Europe/Berlin:20260507T220000
DESCRIPTION:Tickets: https://pretix.eu/mcn/vnp1/\nEinlass: 07.05.2026 18:00
 \nVeranstalter: Marketing Club Nürnberg e.V.
DTSTAMP:20260420T053320Z
LOCATION:Der Veranstaltungsort mit allen Details folgt in Kürze.
SUMMARY:VNP Gruppe 1
END:VEVENT
BEGIN:VEVENT
UID:pretix-mcn-vnp2-0@pretix.eu
DTSTART;TZID=Europe/Berlin:20260512T183000
DTEND;TZID=Europe/Berlin:20260512T220000
DESCRIPTION:Tickets: https://pretix.eu/mcn/vnp2/\nEinlass: 12.05.2026 18:00
 \nVeranstalter: Marketing Club Nürnberg e.V.
DTSTAMP:20260420T053320Z
LOCATION:Der Veranstaltungsort mit allen Details folgt in Kürze.
SUMMARY:VNP Gruppe 2
END:VEVENT
BEGIN:VEVENT
UID:pretix-mcn-pap-0@pretix.eu
DTSTART;TZID=Europe/Berlin:20260615T183000
DTEND;TZID=Europe/Berlin:20260615T220000
DESCRIPTION:Tickets: https://pretix.eu/mcn/pap/\nEinlass: 15.06.2026 18:00\
 nVeranstalter: Marketing Club Nürnberg e.V.
DTSTAMP:20260420T053320Z
LOCATION:Der Veranstaltungsort mit allen Details folgt in Kürze.
SUMMARY:PAPPERLAPÜPP
END:VEVENT
BEGIN:VEVENT
UID:pretix-mcn-bmw-0@pretix.eu
DTSTART;TZID=Europe/Berlin:20260730T183000
DTEND;TZID=Europe/Berlin:20260730T220000
DESCRIPTION:Tickets: https://pretix.eu/mcn/bmw/\nEinlass: 30.07.2026 18:00\
 nVeranstalter: Marketing Club Nürnberg e.V.
DTSTAMP:20260420T053320Z
LOCATION:Wird noch genannt
SUMMARY:BMW Nürnberg
END:VEVENT
BEGIN:VEVENT
UID:pretix-mcn-fcn-0@pretix.eu
DTSTART;TZID=Europe/Berlin:20260922T183000
DTEND;TZID=Europe/Berlin:20260922T213000
DESCRIPTION:Tickets: https://pretix.eu/mcn/fcn/\nEinlass: 22.09.2026 18:00\
 nVeranstalter: Marketing Club Nürnberg e.V.
DTSTAMP:20260420T053320Z
LOCATION:Max-Morlock-Stadion Nürnberg
SUMMARY:1. FCN
END:VEVENT
BEGIN:VEVENT
UID:pretix-mcn-AgR-0@pretix.eu
DTSTART;TZID=Europe/Berlin:20261019T183000
DTEND;TZID=Europe/Berlin:20261019T213000
DESCRIPTION:Tickets: https://pretix.eu/mcn/AgR/\nEinlass: 19.10.2026 18:00\
 nVeranstalter: Marketing Club Nürnberg e.V.
DTSTAMP:20260420T053320Z
LOCATION:Veranstaltungsort folgt zeitnah
SUMMARY:Allianz gegen Rechtsextremismus
END:VEVENT
BEGIN:VEVENT
UID:pretix-mcn-consumenta-0@pretix.eu
DTSTART;TZID=Europe/Berlin:20261105T173000
DTEND;TZID=Europe/Berlin:20261105T220000
DESCRIPTION:Tickets: https://pretix.eu/mcn/consumenta/\nEinlass: 05.11.2026
  17:00\nVeranstalter: Marketing Club Nürnberg e.V.
DTSTAMP:20260420T053320Z
LOCATION:Wird noch genannt
SUMMARY:Consumenta
END:VEVENT
END:VCALENDAR
