BEGIN:VCALENDAR
VERSION:2.0
PRODID:-//pretix//pretix.eu//
BEGIN:VTIMEZONE
TZID:Europe/Berlin
BEGIN:STANDARD
DTSTART:20001029T040000
RRULE:FREQ=YEARLY;BYDAY=-1SU;BYMONTH=10
TZNAME:CET
TZOFFSETFROM:+0200
TZOFFSETTO:+0100
END:STANDARD
BEGIN:DAYLIGHT
DTSTART:20000326T030000
RRULE:FREQ=YEARLY;BYDAY=-1SU;BYMONTH=3
TZNAME:CEST
TZOFFSETFROM:+0100
TZOFFSETTO:+0200
END:DAYLIGHT
END:VTIMEZONE
BEGIN:VEVENT
UID:pretix-mcn-kultur-0@pretix.eu
DTSTART;TZID=Europe/Berlin:20250129T183000
DTEND;TZID=Europe/Berlin:20250129T220000
DESCRIPTION:Tickets: https://pretix.eu/mcn/kultur/\nEinlass: 29.01.2025 18:
 00\nVeranstalter: Marketing Club Nürnberg e.V.
DTSTAMP:20260420T103820Z
LOCATION:Marmorsaal\, 2. Stock im Gewerbemuseum\, Gewerbemuseumsplatz 2\, 9
 0403 Nürnberg
SUMMARY:Stadt Nürnberg Projektbüro Kultur - Neue Allianzen für die Trans
 formation der Stadt Nürnberg mit Kunst und Kultur
END:VEVENT
END:VCALENDAR
