BEGIN:VCALENDAR
VERSION:2.0
PRODID:-//pretix//pretix.eu//
BEGIN:VTIMEZONE
TZID:Europe/Berlin
BEGIN:STANDARD
DTSTART:20001029T040000
RRULE:FREQ=YEARLY;BYDAY=-1SU;BYMONTH=10
TZNAME:CET
TZOFFSETFROM:+0200
TZOFFSETTO:+0100
END:STANDARD
BEGIN:DAYLIGHT
DTSTART:20000326T030000
RRULE:FREQ=YEARLY;BYDAY=-1SU;BYMONTH=3
TZNAME:CEST
TZOFFSETFROM:+0100
TZOFFSETTO:+0200
END:DAYLIGHT
END:VTIMEZONE
BEGIN:VEVENT
UID:pretix-mcn-sommer25-0@pretix.eu
DTSTART;TZID=Europe/Berlin:20250724T183000
DTEND;TZID=Europe/Berlin:20250724T220000
DESCRIPTION:Tickets: https://pretix.eu/mcn/sommer25/\nEinlass: 24.07.2025 1
 8:00\nVeranstalter: Marketing Club Nürnberg e.V.
DTSTAMP:20260420T103818Z
LOCATION:Am Kartäusertor 1\, 90402 Nürnberg
SUMMARY:Sommerfest des Marketing Club Nürnberg im Tucher-Bräu am Opernhaus
END:VEVENT
END:VCALENDAR
