BEGIN:VCALENDAR
VERSION:2.0
PRODID:-//pretix//pretix.eu//
BEGIN:VTIMEZONE
TZID:Europe/Berlin
BEGIN:STANDARD
DTSTART:20001029T040000
RRULE:FREQ=YEARLY;BYDAY=-1SU;BYMONTH=10
TZNAME:CET
TZOFFSETFROM:+0200
TZOFFSETTO:+0100
END:STANDARD
BEGIN:DAYLIGHT
DTSTART:20000326T030000
RRULE:FREQ=YEARLY;BYDAY=-1SU;BYMONTH=3
TZNAME:CEST
TZOFFSETFROM:+0100
TZOFFSETTO:+0200
END:DAYLIGHT
END:VTIMEZONE
BEGIN:VEVENT
UID:pretix-mcn-spvgg-0@pretix.eu
DTSTART;TZID=Europe/Berlin:20250225T183000
DTEND;TZID=Europe/Berlin:20250225T220000
DESCRIPTION:Tickets: https://pretix.eu/mcn/spvgg/\nEinlass: 25.02.2025 18:0
 0\nVeranstalter: Marketing Club Nürnberg e.V.
DTSTAMP:20260420T103825Z
LOCATION:Sportpark Ronhof\, Laubenweg 60\, 90765 Fürth
SUMMARY:Marke & Kommunikation der SpVgg Greuther Fürth: Es gibt viele Club
 s\, aber nur ein Kleeblatt
END:VEVENT
END:VCALENDAR
