BEGIN:VCALENDAR
VERSION:2.0
PRODID:-//pretix//pretix.eu//
BEGIN:VTIMEZONE
TZID:Europe/Berlin
BEGIN:STANDARD
DTSTART:20001029T040000
RRULE:FREQ=YEARLY;BYDAY=-1SU;BYMONTH=10
TZNAME:CET
TZOFFSETFROM:+0200
TZOFFSETTO:+0100
END:STANDARD
BEGIN:DAYLIGHT
DTSTART:20000326T030000
RRULE:FREQ=YEARLY;BYDAY=-1SU;BYMONTH=3
TZNAME:CEST
TZOFFSETFROM:+0100
TZOFFSETTO:+0200
END:DAYLIGHT
END:VTIMEZONE
BEGIN:VEVENT
UID:pretix-mcn-woehrl-0@pretix.eu
DTSTART;TZID=Europe/Berlin:20241204T183000
DTEND;TZID=Europe/Berlin:20241204T220000
DESCRIPTION:Tickets: https://pretix.eu/mcn/woehrl/\nEinlass: 04.12.2024 18:
 00\nVeranstalter: Marketing Club Nürnberg e.V.
DTSTAMP:20260420T103814Z
LOCATION:Ludwigsplatz 12-24\, 90403 Nürnberg
SUMMARY:Wöhrl Nürnberg
END:VEVENT
END:VCALENDAR
