BEGIN:VCALENDAR
VERSION:2.0
PRODID:-//pretix//pretix.eu//
BEGIN:VTIMEZONE
TZID:Europe/Berlin
BEGIN:STANDARD
DTSTART:20001029T040000
RRULE:FREQ=YEARLY;BYDAY=-1SU;BYMONTH=10
TZNAME:CET
TZOFFSETFROM:+0200
TZOFFSETTO:+0100
END:STANDARD
BEGIN:DAYLIGHT
DTSTART:20000326T030000
RRULE:FREQ=YEARLY;BYDAY=-1SU;BYMONTH=3
TZNAME:CEST
TZOFFSETFROM:+0100
TZOFFSETTO:+0200
END:DAYLIGHT
END:VTIMEZONE
BEGIN:VEVENT
UID:pretix-medbib-LMW-4748604@pretix.eu
DTSTART;TZID=Europe/Berlin:20260121T163000
DTEND;TZID=Europe/Berlin:20260121T173000
DESCRIPTION:Tickets: https://pretix.eu/medbib/LMW/4748604/\nOrganizer: Medi
 zinische Bibliothek
DTSTAMP:20260422T112446Z
SUMMARY:Love Methods Week: Evidence Synthesis: Types\, Reproducibility\, Be
 st Practices and the Role of AI. (A Workshop by the Medical Library Charit
 é).
END:VEVENT
END:VCALENDAR
