BEGIN:VCALENDAR
VERSION:2.0
PRODID:-//pretix//pretix.eu//
BEGIN:VTIMEZONE
TZID:Europe/Berlin
BEGIN:STANDARD
DTSTART:20001029T040000
RRULE:FREQ=YEARLY;BYDAY=-1SU;BYMONTH=10
TZNAME:CET
TZOFFSETFROM:+0200
TZOFFSETTO:+0100
END:STANDARD
BEGIN:DAYLIGHT
DTSTART:20000326T030000
RRULE:FREQ=YEARLY;BYDAY=-1SU;BYMONTH=3
TZNAME:CEST
TZOFFSETFROM:+0100
TZOFFSETTO:+0200
END:DAYLIGHT
END:VTIMEZONE
BEGIN:VEVENT
UID:pretix-medeconruhr-HFRmeetup-10-0@pretix.eu
DTSTART;TZID=Europe/Berlin:20260113T173000
DTEND;TZID=Europe/Berlin:20260113T200000
DESCRIPTION:Tickets: https://pretix.eu/medeconruhr/HFRmeetup-10/\nVeranstal
 ter: MedEcon Ruhr
DTSTAMP:20260419T141457Z
LOCATION:Quhr feat. Bochum Wirtschaftsentwicklung | Agentur Gesundheitscamp
 us\, Gesundheitscampus-Süd 17\, 44801 Bochum
SUMMARY:Health Founders Ruhr Meetup
END:VEVENT
END:VCALENDAR
