BEGIN:VCALENDAR
VERSION:2.0
PRODID:-//pretix//pretix.eu//
BEGIN:VEVENT
UID:pretix-medeconruhr-ideenwerkstatt25-0@pretix.eu
DTSTART;VALUE=DATE:20250321
DTEND;VALUE=DATE:20250323
DESCRIPTION:Tickets: https://pretix.eu/medeconruhr/ideenwerkstatt25/\nVeran
 stalter: MedEcon Ruhr
DTSTAMP:20260421T181959Z
LOCATION:Kongresszentrum\, Westfalenhallen Dortmund
SUMMARY:4. Ideenwerkstatt Schlaganfall
END:VEVENT
END:VCALENDAR
