BEGIN:VCALENDAR
VERSION:2.0
PRODID:-//pretix//pretix.eu//
BEGIN:VTIMEZONE
TZID:Europe/Berlin
BEGIN:STANDARD
DTSTART:20001029T040000
RRULE:FREQ=YEARLY;BYDAY=-1SU;BYMONTH=10
TZNAME:CET
TZOFFSETFROM:+0200
TZOFFSETTO:+0100
END:STANDARD
BEGIN:DAYLIGHT
DTSTART:20000326T030000
RRULE:FREQ=YEARLY;BYDAY=-1SU;BYMONTH=3
TZNAME:CEST
TZOFFSETFROM:+0100
TZOFFSETTO:+0200
END:DAYLIGHT
END:VTIMEZONE
BEGIN:VEVENT
UID:pretix-medeconruhr-schlafimfokus-0@pretix.eu
DTSTART;TZID=Europe/Berlin:20260519T140000
DTEND;TZID=Europe/Berlin:20260519T170000
DESCRIPTION:Tickets: https://pretix.eu/medeconruhr/schlafimfokus/\nVeransta
 lter: MedEcon Ruhr
DTSTAMP:20260425T005347Z
LOCATION:Zentrum für Proteindiagnostik - ProDi\, Gesundheitscampus 4\, 448
 01 Bochum
SUMMARY:Schlaf im Fokus: Neue Wege für Prävention\, Diagnose und Therapie
END:VEVENT
END:VCALENDAR
