BEGIN:VCALENDAR
VERSION:2.0
PRODID:-//pretix//pretix.eu//
BEGIN:VTIMEZONE
TZID:Europe/Berlin
BEGIN:STANDARD
DTSTART:20001029T040000
RRULE:FREQ=YEARLY;BYDAY=-1SU;BYMONTH=10
TZNAME:CET
TZOFFSETFROM:+0200
TZOFFSETTO:+0100
END:STANDARD
BEGIN:DAYLIGHT
DTSTART:20000326T030000
RRULE:FREQ=YEARLY;BYDAY=-1SU;BYMONTH=3
TZNAME:CEST
TZOFFSETFROM:+0100
TZOFFSETTO:+0200
END:DAYLIGHT
END:VTIMEZONE
BEGIN:VEVENT
UID:pretix-mediaplitt-10jahreonetape-0@pretix.eu
DTSTART;TZID=Europe/Berlin:20231209T173000
DTEND;TZID=Europe/Berlin:20231209T183000
DESCRIPTION:Tickets: https://pretix.eu/mediaplitt/10jahreonetape/\nEinlass:
  09.12.2023 17:00\nVeranstalter: Manuel Plitt
DTSTAMP:20260421T131604Z
LOCATION:Bürgerzentrum Brilon\, Propst-Meyer-Straße 7\, 59929 Brilon
SUMMARY:10 JAHRE ONE TAPE
END:VEVENT
END:VCALENDAR
