BEGIN:VCALENDAR
VERSION:2.0
PRODID:-//pretix//pretix.eu//
BEGIN:VTIMEZONE
TZID:Europe/Berlin
BEGIN:STANDARD
DTSTART:20001029T040000
RRULE:FREQ=YEARLY;BYDAY=-1SU;BYMONTH=10
TZNAME:CET
TZOFFSETFROM:+0200
TZOFFSETTO:+0100
END:STANDARD
BEGIN:DAYLIGHT
DTSTART:20000326T030000
RRULE:FREQ=YEARLY;BYDAY=-1SU;BYMONTH=3
TZNAME:CEST
TZOFFSETFROM:+0100
TZOFFSETTO:+0200
END:DAYLIGHT
END:VTIMEZONE
BEGIN:VEVENT
UID:pretix-mediencampus-hda-prompthaton-0@pretix.eu
DTSTART;TZID=Europe/Berlin:20251021T140000
DTEND;TZID=Europe/Berlin:20251021T180000
DESCRIPTION:Tickets: https://pretix.eu/mediencampus-hda/prompthaton/\nVeran
 stalter: Mediencampus der Hochschule Darmstadt
DTSTAMP:20260424T200032Z
LOCATION:Mensa\, Campus Dieburg\, Max-Planck-Straße 2\, 64807 Dieburg
SUMMARY:Promptathon #2
END:VEVENT
END:VCALENDAR
