BEGIN:VCALENDAR
VERSION:2.0
PRODID:-//pretix//pretix.eu//
BEGIN:VEVENT
UID:pretix-merge-it-2025-food-0@pretix.eu
DTSTART;VALUE=DATE:20250620
DTEND;VALUE=DATE:20250623
DESCRIPTION:Tickets: https://pretix.eu/merge-it/2025-food/\nOrganizer: MERG
 E-it
DTSTAMP:20260424T114309Z
SUMMARY:Biglietto conferenza MERGE-it 2025 a Verona
END:VEVENT
END:VCALENDAR
