BEGIN:VCALENDAR
VERSION:2.0
PRODID:-//pretix//pretix.eu//
BEGIN:VTIMEZONE
TZID:Europe/Berlin
BEGIN:STANDARD
DTSTART:20001029T040000
RRULE:FREQ=YEARLY;BYDAY=-1SU;BYMONTH=10
TZNAME:CET
TZOFFSETFROM:+0200
TZOFFSETTO:+0100
END:STANDARD
BEGIN:DAYLIGHT
DTSTART:20000326T030000
RRULE:FREQ=YEARLY;BYDAY=-1SU;BYMONTH=3
TZNAME:CEST
TZOFFSETFROM:+0100
TZOFFSETTO:+0200
END:DAYLIGHT
END:VTIMEZONE
BEGIN:VEVENT
UID:pretix-mgh-vtk-auftakt-dmp-0@pretix.eu
DTSTART;TZID=Europe/Berlin:20220615T140000
DTEND;TZID=Europe/Berlin:20220615T160000
DESCRIPTION:Tickets: https://pretix.eu/mgh-vtk/auftakt-dmp/\nEinlass: 15.06
 .2022 13:45\nVeranstalter: iRights.Lab
DTSTAMP:20260423T093641Z
LOCATION:Online
SUMMARY:Auftaktveranstaltung Deutscher Mobilitätspreis 2022
END:VEVENT
END:VCALENDAR
