BEGIN:VCALENDAR
VERSION:2.0
PRODID:-//pretix//pretix.eu//
BEGIN:VTIMEZONE
TZID:Europe/Berlin
BEGIN:STANDARD
DTSTART:20001029T040000
RRULE:FREQ=YEARLY;BYDAY=-1SU;BYMONTH=10
TZNAME:CET
TZOFFSETFROM:+0200
TZOFFSETTO:+0100
END:STANDARD
BEGIN:DAYLIGHT
DTSTART:20000326T030000
RRULE:FREQ=YEARLY;BYDAY=-1SU;BYMONTH=3
TZNAME:CEST
TZOFFSETFROM:+0100
TZOFFSETTO:+0200
END:DAYLIGHT
END:VTIMEZONE
BEGIN:VEVENT
UID:pretix-ministrygroup-wissen01-0@pretix.eu
DTSTART;TZID=Europe/Berlin:20200624T090000
DTEND;TZID=Europe/Berlin:20200624T170000
DESCRIPTION:Tickets: https://pretix.eu/ministrygroup/wissen01/\nVeranstalte
 r: Ministry of Worklife
DTSTAMP:20260421T070050Z
LOCATION:Ministry Group GmbH\, Zeughausmarkt 33\, 20459 Hamburg
SUMMARY:Wenn Organisationen wüssten was sie wissen - wie gelingt Wissensau
 stausch? - Workshop mit Benjamin Keller & Tanja Brill
END:VEVENT
END:VCALENDAR
