BEGIN:VCALENDAR
VERSION:2.0
PRODID:-//pretix//pretix.eu//
BEGIN:VTIMEZONE
TZID:Europe/Berlin
BEGIN:STANDARD
DTSTART:20001029T040000
RRULE:FREQ=YEARLY;BYDAY=-1SU;BYMONTH=10
TZNAME:CET
TZOFFSETFROM:+0200
TZOFFSETTO:+0100
END:STANDARD
BEGIN:DAYLIGHT
DTSTART:20000326T030000
RRULE:FREQ=YEARLY;BYDAY=-1SU;BYMONTH=3
TZNAME:CEST
TZOFFSETFROM:+0100
TZOFFSETTO:+0200
END:DAYLIGHT
END:VTIMEZONE
BEGIN:VEVENT
UID:pretix-mrn-events-VDE-Forum-0@pretix.eu
DTSTART;TZID=Europe/Berlin:20240612T180000
DTEND;TZID=Europe/Berlin:20240612T200000
DESCRIPTION:Tickets: https://pretix.eu/mrn-events/VDE-Forum/\nVeranstalter:
  Metropolregion Rhein-Neckar
DTSTAMP:20260424T170158Z
LOCATION:MAFINEX\; Julius-Hatry-Straße 1\, 68163 Mannheim
SUMMARY:Wasserstoff: Zukunft und Innovation für unsere Energiewende? - 2. 
 VDE Wasserstoff-Forum MRN
END:VEVENT
END:VCALENDAR
