BEGIN:VCALENDAR
VERSION:2.0
PRODID:-//pretix//pretix.eu//
BEGIN:VTIMEZONE
TZID:Europe/Berlin
BEGIN:STANDARD
DTSTART:20001029T040000
RRULE:FREQ=YEARLY;BYDAY=-1SU;BYMONTH=10
TZNAME:CET
TZOFFSETFROM:+0200
TZOFFSETTO:+0100
END:STANDARD
BEGIN:DAYLIGHT
DTSTART:20000326T030000
RRULE:FREQ=YEARLY;BYDAY=-1SU;BYMONTH=3
TZNAME:CEST
TZOFFSETFROM:+0100
TZOFFSETTO:+0200
END:DAYLIGHT
END:VTIMEZONE
BEGIN:VEVENT
UID:pretix-muksbruchsal-jazzfestival-4260566@pretix.eu
DTSTART;TZID=Europe/Berlin:20250323T180000
DTEND;TZID=Europe/Berlin:20250323T190000
DESCRIPTION:Tickets: https://pretix.eu/muksbruchsal/jazzfestival/4260566/\n
 Veranstalter: Musik- und Kunstschule Bruchsal
DTSTAMP:20260420T054708Z
LOCATION:Freie ev. Kirche Bad Schönborn
SUMMARY:Internationales Kraichgau Jazz-Festival - Quardro Nuevo
END:VEVENT
END:VCALENDAR
