BEGIN:VCALENDAR
VERSION:2.0
PRODID:-//pretix//pretix.eu//
BEGIN:VTIMEZONE
TZID:Europe/Berlin
BEGIN:STANDARD
DTSTART:20001029T040000
RRULE:FREQ=YEARLY;BYDAY=-1SU;BYMONTH=10
TZNAME:CET
TZOFFSETFROM:+0200
TZOFFSETTO:+0100
END:STANDARD
BEGIN:DAYLIGHT
DTSTART:20000326T030000
RRULE:FREQ=YEARLY;BYDAY=-1SU;BYMONTH=3
TZNAME:CEST
TZOFFSETFROM:+0100
TZOFFSETTO:+0200
END:DAYLIGHT
END:VTIMEZONE
BEGIN:VEVENT
UID:pretix-musahorti-voyagewondelgem-0@pretix.eu
DTSTART;TZID=Europe/Berlin:20250614T200000
DTEND;TZID=Europe/Berlin:20250614T213000
DESCRIPTION:Tickets: https://pretix.eu/musahorti/voyagewondelgem/\nOrganisa
 tor: Musa Horti
DTSTAMP:20260419T162425Z
LOCATION:Sint-Catharinakerk Wondelgem
SUMMARY:Invitation au voyage Gent
END:VEVENT
END:VCALENDAR
