BEGIN:VCALENDAR
VERSION:2.0
PRODID:-//pretix//pretix.eu//
BEGIN:VTIMEZONE
TZID:Europe/Berlin
BEGIN:STANDARD
DTSTART:20001029T040000
RRULE:FREQ=YEARLY;BYDAY=-1SU;BYMONTH=10
TZNAME:CET
TZOFFSETFROM:+0200
TZOFFSETTO:+0100
END:STANDARD
BEGIN:DAYLIGHT
DTSTART:20000326T030000
RRULE:FREQ=YEARLY;BYDAY=-1SU;BYMONTH=3
TZNAME:CEST
TZOFFSETFROM:+0100
TZOFFSETTO:+0200
END:DAYLIGHT
END:VTIMEZONE
BEGIN:VEVENT
UID:pretix-museumruesselsheim-11-05-25-0@pretix.eu
DTSTART;TZID=Europe/Berlin:20250511T140000
DTEND;TZID=Europe/Berlin:20250511T150000
DESCRIPTION:Tickets: https://pretix.eu/museumruesselsheim/11-05-25/\nVerans
 talter: Stadt- und Industriemuseum Rüsselsheim
DTSTAMP:20260422T014530Z
LOCATION:Stadt- und Industriemuseum Rüsselsheim
SUMMARY:Rüsselsheim 1945. Leben in der „Stunde Null“ – Stadtführung
  80 Jahre Kriegsende
END:VEVENT
END:VCALENDAR
