BEGIN:VCALENDAR
VERSION:2.0
PRODID:-//pretix//pretix.eu//
BEGIN:VTIMEZONE
TZID:Europe/Berlin
BEGIN:STANDARD
DTSTART:20001029T040000
RRULE:FREQ=YEARLY;BYDAY=-1SU;BYMONTH=10
TZNAME:CET
TZOFFSETFROM:+0200
TZOFFSETTO:+0100
END:STANDARD
BEGIN:DAYLIGHT
DTSTART:20000326T030000
RRULE:FREQ=YEARLY;BYDAY=-1SU;BYMONTH=3
TZNAME:CEST
TZOFFSETFROM:+0100
TZOFFSETTO:+0200
END:DAYLIGHT
END:VTIMEZONE
BEGIN:VEVENT
UID:pretix-mvdalkingen-vvk-4664737@pretix.eu
DTSTART;TZID=Europe/Berlin:20260509T200000
DTEND;TZID=Europe/Berlin:20260509T210000
DESCRIPTION:Tickets: https://pretix.eu/mvdalkingen/vvk/4664737/\nEinlass: 0
 9.05.2026 18:00\nVeranstalter: Förderverein des Musikverein Dalkingen
DTSTAMP:20260419T170515Z
LOCATION:Hohe Straße 5\, 73492 Rainau Dalkingen
SUMMARY:Blasmusikabend mit der kleinen Dorfmusik
END:VEVENT
END:VCALENDAR
